BEGIN:VCALENDAR
VERSION:2.0
PRODID:-//Plone.org//NONSGML plone.app.event//EN
X-WR-TIMEZONE:Europe/Madrid
BEGIN:VEVENT
SUMMARY:Trobada de Gegants
DTSTART;TZID=Europe/Madrid;VALUE=DATE-TIME:20090118T100000
DTEND;TZID=Europe/Madrid;VALUE=DATE-TIME:20090118T110000
DTSTAMP;VALUE=DATE-TIME:20260422T031058Z
UID:4b428220c09c6efb8721e34d644a2ff6
CREATED;VALUE=DATE-TIME:20090118T000000Z
CATEGORIES:Festa,Agenda cultural
LOCATION:Avinguda Toni Sors
ORGANIZER:Colla de Geganters de Sant Vicenç; hi col·labora l'Ajuntament de Sant Vicenç de Montalt
COMMENT:Preu: Gratuït
URL:https://www.svmontalt.cat/document.php?id=2608
END:VEVENT
END:VCALENDAR