BEGIN:VCALENDAR
VERSION:2.0
PRODID:-//Plone.org//NONSGML plone.app.event//EN
X-WR-TIMEZONE:Europe/Madrid
BEGIN:VEVENT
SUMMARY:Final i lliurament de trofeus del 3r Campionat de Billar
DTSTART;TZID=Europe/Madrid;VALUE=DATE-TIME:20090118T130000
DTEND;TZID=Europe/Madrid;VALUE=DATE-TIME:20090118T140000
DTSTAMP;VALUE=DATE-TIME:20260422T111135Z
UID:cac6b708c682a7252eb5e05e84718dd9
CREATED;VALUE=DATE-TIME:20090118T000000Z
CATEGORIES:Esports
LOCATION:Casal de la Gent Gran Els Xurravins
ORGANIZER:Associació de Gent Gran Els Xurravins
COMMENT:Preu: Gratuït
URL:https://www.svmontalt.cat/document.php?id=2609
END:VEVENT
END:VCALENDAR