BEGIN:VCALENDAR
VERSION:2.0
PRODID:-//Plone.org//NONSGML plone.app.event//EN
X-WR-TIMEZONE:Europe/Madrid
BEGIN:VEVENT
SUMMARY:XIV Escudellada de Festa Major
DTSTART;TZID=Europe/Madrid;VALUE=DATE-TIME:20090118T140000
DTEND;TZID=Europe/Madrid;VALUE=DATE-TIME:20090118T150000
DTSTAMP;VALUE=DATE-TIME:20260422T072617Z
UID:0c3d506d948254ec954549df66400d67
CREATED;VALUE=DATE-TIME:20090118T000000Z
CATEGORIES:Festa,Agenda cultural
LOCATION:Envelat, instal·lat a tocar del Centre Cívic El Gorg
ORGANIZER:Regidoria de Cultura i "Els Escudellaires"
COMMENT:Preu: 10 euros
URL:https://www.svmontalt.cat/document.php?id=2610
END:VEVENT
END:VCALENDAR