BEGIN:VCALENDAR
VERSION:2.0
PRODID:-//Plone.org//NONSGML plone.app.event//EN
X-WR-TIMEZONE:Europe/Madrid
BEGIN:VEVENT
SUMMARY:El somni de l'home del sac
DTSTART;TZID=Europe/Madrid;VALUE=DATE-TIME:20090121T173000
DTEND;TZID=Europe/Madrid;VALUE=DATE-TIME:20090121T183000
DTSTAMP;VALUE=DATE-TIME:20260422T093450Z
UID:41b24395c807a5aa463fdfd0e9dda13d
CREATED;VALUE=DATE-TIME:20090121T000000Z
CATEGORIES:Infantils
LOCATION:Envelat, instal·lat a tocar del centre Cívic El Gorg
ORGANIZER:Regidoria de Cultura
COMMENT:Preu: Gratuït
DESCRIPTION:Animació infantil
URL:https://www.svmontalt.cat/document.php?id=2611
END:VEVENT
END:VCALENDAR