BEGIN:VCALENDAR
VERSION:2.0
PRODID:-//Plone.org//NONSGML plone.app.event//EN
X-WR-TIMEZONE:Europe/Madrid
BEGIN:VEVENT
SUMMARY:Repic de campanes i petardada
DTSTART;TZID=Europe/Madrid;VALUE=DATE-TIME:20090122T093000
DTEND;TZID=Europe/Madrid;VALUE=DATE-TIME:20090122T103000
DTSTAMP;VALUE=DATE-TIME:20260422T014137Z
UID:193909316e56f08ca4a32359c07cd75b
CREATED;VALUE=DATE-TIME:20090122T000000Z
CATEGORIES:Festa,Agenda cultural
LOCATION:Església de Sant Vicenç
ORGANIZER:Parròquia de Sant Vicenç
URL:https://www.svmontalt.cat/document.php?id=2612
END:VEVENT
END:VCALENDAR