BEGIN:VCALENDAR
VERSION:2.0
PRODID:-//Plone.org//NONSGML plone.app.event//EN
X-WR-TIMEZONE:Europe/Madrid
BEGIN:VEVENT
SUMMARY:Missa Solemne
DTSTART;TZID=Europe/Madrid;VALUE=DATE-TIME:20090122T110000
DTEND;TZID=Europe/Madrid;VALUE=DATE-TIME:20090122T120000
DTSTAMP;VALUE=DATE-TIME:20260422T031816Z
UID:96d3c21933dce6a7cd998da359076ba4
CREATED;VALUE=DATE-TIME:20090122T000000Z
LOCATION:Església de Sant Vicenç
ORGANIZER:Parròquia de sant Vicenç; hi col·labora l'Orfeó Parroquial El Delme
URL:https://www.svmontalt.cat/document.php?id=2613
END:VEVENT
END:VCALENDAR