BEGIN:VCALENDAR
VERSION:2.0
PRODID:-//Plone.org//NONSGML plone.app.event//EN
X-WR-TIMEZONE:Europe/Madrid
BEGIN:VEVENT
SUMMARY:Concert i Ball de Festa Major
DTSTART;TZID=Europe/Madrid;VALUE=DATE-TIME:20090122T180000
DTEND;TZID=Europe/Madrid;VALUE=DATE-TIME:20090122T190000
DTSTAMP;VALUE=DATE-TIME:20260421T222555Z
UID:b8134b70650ece056a6149283c82b528
CREATED;VALUE=DATE-TIME:20090122T000000Z
CATEGORIES:Festa,Agenda cultural
LOCATION:Envelat, instal·lat a tocar del Centre Cívic El Gorg
ORGANIZER:Regidoria de Cultura
COMMENT:Preu: Gratuït
DESCRIPTION:Amb l'Orquestra Selvatana
URL:https://www.svmontalt.cat/document.php?id=2616
END:VEVENT
END:VCALENDAR