BEGIN:VCALENDAR
VERSION:2.0
PRODID:-//Plone.org//NONSGML plone.app.event//EN
X-WR-TIMEZONE:Europe/Madrid
BEGIN:VEVENT
SUMMARY:Concert Jove amb l'Orquestra Audiència Nacional
DTSTART;TZID=Europe/Madrid;VALUE=DATE-TIME:20090123T230000
DTEND;TZID=Europe/Madrid;VALUE=DATE-TIME:20090124T000000
DTSTAMP;VALUE=DATE-TIME:20260421T222526Z
UID:29d114f4454bac3c3e3c47e8b5c9b2e9
CREATED;VALUE=DATE-TIME:20090123T000000Z
CATEGORIES:Festa,Agenda cultural
LOCATION:Envelat, instal·lat a tocar del Centre Cívic El Gorg
ORGANIZER:Regidoria de Cultura
COMMENT:Preu: Gratuït
DESCRIPTION:Música dels anys 80 i 90
URL:https://www.svmontalt.cat/document.php?id=2617
END:VEVENT
END:VCALENDAR