BEGIN:VCALENDAR
VERSION:2.0
PRODID:-//Plone.org//NONSGML plone.app.event//EN
X-WR-TIMEZONE:Europe/Madrid
BEGIN:VEVENT
SUMMARY:Ball de Nit amb l'Orquestra Girasol
DTSTART;TZID=Europe/Madrid;VALUE=DATE-TIME:20090207T230000
DTEND;TZID=Europe/Madrid;VALUE=DATE-TIME:20090208T000000
DTSTAMP;VALUE=DATE-TIME:20260421T222631Z
UID:e2d98a85db20ced7d2986bff4800f17b
CREATED;VALUE=DATE-TIME:20090207T000000Z
CATEGORIES:Festa,Agenda cultural
LOCATION:Envelat, instal·lat a tocar del Centre Cívic El Gorg
ORGANIZER:Regidoria de Cultura
COMMENT:Preu: Gratuït
URL:https://www.svmontalt.cat/document.php?id=2618
END:VEVENT
END:VCALENDAR