BEGIN:VCALENDAR
VERSION:2.0
PRODID:-//Plone.org//NONSGML plone.app.event//EN
X-WR-TIMEZONE:Europe/Madrid
BEGIN:VEVENT
SUMMARY:8a Montalt-Bike (B.T.T.)
DTSTART;TZID=Europe/Madrid;VALUE=DATE-TIME:20090125T090000
DTEND;TZID=Europe/Madrid;VALUE=DATE-TIME:20090125T100000
DTSTAMP;VALUE=DATE-TIME:20260422T044947Z
UID:88d5077f3a91d8fd87fadbb77e6030eb
CREATED;VALUE=DATE-TIME:20090125T000000Z
CATEGORIES:Esports
LOCATION:Avinguda Toni Sors
ORGANIZER:Club Ciclista Xurribikers; hi col·labora l'Ajuntament de Sant Vicenç de Montalt
URL:https://www.svmontalt.cat/document.php?id=2619
END:VEVENT
END:VCALENDAR