BEGIN:VCALENDAR
VERSION:2.0
PRODID:-//Plone.org//NONSGML plone.app.event//EN
X-WR-TIMEZONE:Europe/Madrid
BEGIN:VEVENT
SUMMARY:2a Baixada de Carretons
DTSTART;TZID=Europe/Madrid;VALUE=DATE-TIME:20090207T100000
DTEND;TZID=Europe/Madrid;VALUE=DATE-TIME:20090207T110000
DTSTAMP;VALUE=DATE-TIME:20260422T030924Z
UID:168d059a3f2e627fb621188c54ef84fc
CREATED;VALUE=DATE-TIME:20090207T000000Z
CATEGORIES:Festa,Agenda cultural
LOCATION:Riera del Gorg amb inici de la baixada des de Can Cinto
ORGANIZER:Regidoria de Joventut i Plataforma Pro-Esplai
COMMENT:Preu: Gratuït
URL:https://www.svmontalt.cat/document.php?id=2622
END:VEVENT
END:VCALENDAR