BEGIN:VCALENDAR
VERSION:2.0
PRODID:-//Plone.org//NONSGML plone.app.event//EN
X-WR-TIMEZONE:Europe/Madrid
BEGIN:VEVENT
SUMMARY:Pedalejada Popular
DTSTART;TZID=Europe/Madrid;VALUE=DATE-TIME:20090208T083000
DTEND;TZID=Europe/Madrid;VALUE=DATE-TIME:20090208T093000
DTSTAMP;VALUE=DATE-TIME:20260422T074219Z
UID:4dcdfa0d74f75e1686c95ce0ce388c20
CREATED;VALUE=DATE-TIME:20090208T000000Z
CATEGORIES:Esports
LOCATION:Avinguda Toni Sors
ORGANIZER:Club Ciclista Xurribikers; hi col·labora l'Ajuntament de Sant Vicenç de Montalt
COMMENT:Preu: Gratuït
URL:https://www.svmontalt.cat/document.php?id=2623
END:VEVENT
END:VCALENDAR