BEGIN:VCALENDAR
VERSION:2.0
PRODID:-//Plone.org//NONSGML plone.app.event//EN
X-WR-TIMEZONE:Europe/Madrid
BEGIN:VEVENT
SUMMARY:Paranoia Winter Festival
DTSTART;TZID=Europe/Madrid;VALUE=DATE-TIME:20090130T190000
DTEND;TZID=Europe/Madrid;VALUE=DATE-TIME:20090130T200000
DTSTAMP;VALUE=DATE-TIME:20260422T080659Z
UID:32d208db9dba1a9db0cf4a1d7988c2e7
CREATED;VALUE=DATE-TIME:20090130T000000Z
CATEGORIES:Festa,Música,Agenda cultural
LOCATION:Envelat, instal·lat a tocar del Centre Cívic El Gorg
ORGANIZER:Regidoria de Joventut
COMMENT:Preu: Gratuït
DESCRIPTION:Festa Jove
URL:https://www.svmontalt.cat/document.php?id=2658
END:VEVENT
END:VCALENDAR