BEGIN:VCALENDAR
VERSION:2.0
PRODID:-//Plone.org//NONSGML plone.app.event//EN
X-WR-TIMEZONE:Europe/Madrid
BEGIN:VEVENT
SUMMARY:Exposició: Reproduccions a escala de l'antic Egipte
DTSTART;TZID=Europe/Madrid;VALUE=DATE-TIME:20090210T100000
DTEND;TZID=Europe/Madrid;VALUE=DATE-TIME:20090210T110000
DTSTAMP;VALUE=DATE-TIME:20260426T015220Z
UID:49b4017fa4349b92c93af11adbf752bb
CREATED;VALUE=DATE-TIME:20090210T000000Z
CATEGORIES:Exposició,Agenda cultural
LOCATION:Casal de la Gent Gran Els Xurravins
ORGANIZER:Associació de Gent Gran Els Xurravins i Biblioteca Municipal La Muntala
COMMENT:Preu: Gratuït
Durada: Del 3 al 10 de febrer
DESCRIPTION:Fins al 10 de febrer
URL:https://www.svmontalt.cat/document.php?id=2676
END:VEVENT
END:VCALENDAR