BEGIN:VCALENDAR
VERSION:2.0
PRODID:-//Plone.org//NONSGML plone.app.event//EN
X-WR-TIMEZONE:Europe/Madrid
BEGIN:VEVENT
SUMMARY:Xerrada-col·loqui: "La vida a l'antic Egipte"
DTSTART;TZID=Europe/Madrid;VALUE=DATE-TIME:20090206T190000
DTEND;TZID=Europe/Madrid;VALUE=DATE-TIME:20090206T200000
DTSTAMP;VALUE=DATE-TIME:20260424T172355Z
UID:c2bf225ed8bc4ac49052c91e0549aae0
CREATED;VALUE=DATE-TIME:20090206T000000Z
CATEGORIES:Conferència,Agenda cultural
LOCATION:Casal de la Gent Gran Els Xurravins
ORGANIZER:Associació de Gent Gran Els Xurravins i Biblioteca Municipal La Muntala
COMMENT:Preu: Gratuït
DESCRIPTION:A càrrec de Jaume Alavedra, egiptòleg
URL:https://www.svmontalt.cat/document.php?id=2681
END:VEVENT
END:VCALENDAR