BEGIN:VCALENDAR
VERSION:2.0
PRODID:-//Plone.org//NONSGML plone.app.event//EN
X-WR-TIMEZONE:Europe/Madrid
BEGIN:VEVENT
SUMMARY:Xerrada-col·loqui: Teràpies naturals
DTSTART;TZID=Europe/Madrid;VALUE=DATE-TIME:20090311T180000
DTEND;TZID=Europe/Madrid;VALUE=DATE-TIME:20090311T190000
DTSTAMP;VALUE=DATE-TIME:20260424T172437Z
UID:a53a4550136351f7b4b8354cc5f02a0e
CREATED;VALUE=DATE-TIME:20090311T000000Z
CATEGORIES:Conferència,Agenda cultural
LOCATION:Casal de la Gent Gran Els Xurravins
ORGANIZER:Associació de Gent Gran Els Xurravins
COMMENT:Preu: Gratuït
DESCRIPTION:A càrrec de la Sra. Marta Varcàs
URL:https://www.svmontalt.cat/document.php?id=2751
END:VEVENT
END:VCALENDAR