BEGIN:VCALENDAR
VERSION:2.0
PRODID:-//Plone.org//NONSGML plone.app.event//EN
X-WR-TIMEZONE:Europe/Madrid
BEGIN:VEVENT
SUMMARY:Balls de Saló al Cívic
DTSTART;TZID=Europe/Madrid;VALUE=DATE-TIME:20090329T180000
DTEND;TZID=Europe/Madrid;VALUE=DATE-TIME:20090329T190000
DTSTAMP;VALUE=DATE-TIME:20260422T080350Z
UID:5dabfd74a79dcc9c8f176a4081118d22
CREATED;VALUE=DATE-TIME:20090329T000000Z
CATEGORIES:Dansa,Agenda cultural
LOCATION:Centre Cívic El Gorg
ORGANIZER:Regidoria de Cultura
COMMENT:Preu: Gratuït
URL:https://www.svmontalt.cat/document.php?id=2754
END:VEVENT
END:VCALENDAR