BEGIN:VCALENDAR
VERSION:2.0
PRODID:-//Plone.org//NONSGML plone.app.event//EN
X-WR-TIMEZONE:Europe/Madrid
BEGIN:VEVENT
SUMMARY:2a Fase Campionat Comarcal de Gimnàstica Artística
DTSTART;TZID=Europe/Madrid;VALUE=DATE-TIME:20090321T090000
DTEND;TZID=Europe/Madrid;VALUE=DATE-TIME:20090321T100000
DTSTAMP;VALUE=DATE-TIME:20260424T195307Z
UID:5a7ae9439ad28f26f33b96a909473886
CREATED;VALUE=DATE-TIME:20090321T000000Z
LOCATION:Pavelló Municipal Toni Sors
ORGANIZER:Regidoria d'Esports
COMMENT:Durada: De 9 a 11 del matí, aproximadament
URL:https://www.svmontalt.cat/document.php?id=2807
END:VEVENT
END:VCALENDAR