BEGIN:VCALENDAR
VERSION:2.0
PRODID:-//Plone.org//NONSGML plone.app.event//EN
X-WR-TIMEZONE:Europe/Madrid
BEGIN:VEVENT
SUMMARY:Club de Feina
DTSTART;TZID=Europe/Madrid;VALUE=DATE-TIME:20090401T160000
DTEND;TZID=Europe/Madrid;VALUE=DATE-TIME:20090401T170000
DTSTAMP;VALUE=DATE-TIME:20260423T125508Z
UID:e4bf1754798f31a9eaf9564e89a44e31
CREATED;VALUE=DATE-TIME:20090401T000000Z
LOCATION:Telecentre
ORGANIZER:Regidoria de Promoció Econòmica
COMMENT:Preu: Gratuït
Durada: De 4 a 8 de la tarda
URL:https://www.svmontalt.cat/document.php?id=2824
END:VEVENT
END:VCALENDAR