BEGIN:VCALENDAR
VERSION:2.0
PRODID:-//Plone.org//NONSGML plone.app.event//EN
X-WR-TIMEZONE:Europe/Madrid
BEGIN:VEVENT
SUMMARY:Curs de sevillanes per a menors de 12 anys
DTSTART;TZID=Europe/Madrid;VALUE=DATE-TIME:20090424T173000
DTEND;TZID=Europe/Madrid;VALUE=DATE-TIME:20090424T183000
DTSTAMP;VALUE=DATE-TIME:20260422T013324Z
UID:a6df908cb044085eba613de14ab3eeac
CREATED;VALUE=DATE-TIME:20090424T000000Z
CATEGORIES:Cursos,Agenda cultural
LOCATION:Cau Jove
ORGANIZER:Regidoria de Joventut
COMMENT:Preu: 15 euros/mes
URL:https://www.svmontalt.cat/document.php?id=2837
END:VEVENT
END:VCALENDAR