BEGIN:VCALENDAR
VERSION:2.0
PRODID:-//Plone.org//NONSGML plone.app.event//EN
X-WR-TIMEZONE:Europe/Madrid
BEGIN:VEVENT
SUMMARY:Xerrada-col·loqui: La cuina de Sant Vicenç
DTSTART;TZID=Europe/Madrid;VALUE=DATE-TIME:20090415T180000
DTEND;TZID=Europe/Madrid;VALUE=DATE-TIME:20090415T190000
DTSTAMP;VALUE=DATE-TIME:20260424T222128Z
UID:e39e8e47ebbb194639ecc435719c988e
CREATED;VALUE=DATE-TIME:20090415T000000Z
CATEGORIES:Conferència,Agenda cultural
LOCATION:Casal de la Gent Gran Els Xurravins
ORGANIZER:Associació de Gent Gran Els Xurravins
COMMENT:Preu: Gratuït
URL:https://www.svmontalt.cat/document.php?id=2848
END:VEVENT
END:VCALENDAR