BEGIN:VCALENDAR
VERSION:2.0
PRODID:-//Plone.org//NONSGML plone.app.event//EN
X-WR-TIMEZONE:Europe/Madrid
BEGIN:VEVENT
SUMMARY:Sortida de les Puntaires a Cadaqués
DTSTART;TZID=Europe/Madrid;VALUE=DATE-TIME:20090419T000000
DTEND;TZID=Europe/Madrid;VALUE=DATE-TIME:20090419T010000
DTSTAMP;VALUE=DATE-TIME:20260422T074952Z
UID:5cd6b2d8737a45dd5e6e9a099b72808a
CREATED;VALUE=DATE-TIME:20090419T000000Z
CATEGORIES:Mostra,Agenda cultural
ORGANIZER:Associació de Puntaires de Sant Vicenç de Montalt
URL:https://www.svmontalt.cat/document.php?id=2849
END:VEVENT
END:VCALENDAR