BEGIN:VCALENDAR
VERSION:2.0
PRODID:-//Plone.org//NONSGML plone.app.event//EN
X-WR-TIMEZONE:Europe/Madrid
BEGIN:VEVENT
SUMMARY:Sortida de les Puntaires a Balaguer
DTSTART;TZID=Europe/Madrid;VALUE=DATE-TIME:20090426T000000
DTEND;TZID=Europe/Madrid;VALUE=DATE-TIME:20090426T010000
DTSTAMP;VALUE=DATE-TIME:20260422T092111Z
UID:d398c6cb4129e3f23d41127beeaebdd6
CREATED;VALUE=DATE-TIME:20090426T000000Z
CATEGORIES:Mostra,Agenda cultural
ORGANIZER:Associació de Puntaires de Sant Vicenç de Montalt
URL:https://www.svmontalt.cat/document.php?id=2850
END:VEVENT
END:VCALENDAR