BEGIN:VCALENDAR
VERSION:2.0
PRODID:-//Plone.org//NONSGML plone.app.event//EN
X-WR-TIMEZONE:Europe/Madrid
BEGIN:VEVENT
SUMMARY:Sortida de la Colla de Geganters a Manlleu
DTSTART;TZID=Europe/Madrid;VALUE=DATE-TIME:20090425T000000
DTEND;TZID=Europe/Madrid;VALUE=DATE-TIME:20090425T010000
DTSTAMP;VALUE=DATE-TIME:20260422T044240Z
UID:a817126255ca33a1346138694b4f408d
CREATED;VALUE=DATE-TIME:20090425T000000Z
CATEGORIES:Mostra,Agenda cultural
ORGANIZER:Colla de Geganters de Sant Vicenç de Montalt
URL:https://www.svmontalt.cat/document.php?id=2851
END:VEVENT
END:VCALENDAR