BEGIN:VCALENDAR
VERSION:2.0
PRODID:-//Plone.org//NONSGML plone.app.event//EN
X-WR-TIMEZONE:Europe/Madrid
BEGIN:VEVENT
SUMMARY:Aquest diumenge, als Balls de Saló celebrem Sant Jordi
DTSTART;TZID=Europe/Madrid;VALUE=DATE-TIME:20090426T180000
DTEND;TZID=Europe/Madrid;VALUE=DATE-TIME:20090426T190000
DTSTAMP;VALUE=DATE-TIME:20260422T030954Z
UID:3fcf5ef5c064a91ba86d90437e87b176
CREATED;VALUE=DATE-TIME:20090426T000000Z
CATEGORIES:Dansa,Agenda cultural
LOCATION:Centre Cívic El Gorg
ORGANIZER:Regidoria de Cultura
COMMENT:Preu: Gratuït
URL:https://www.svmontalt.cat/document.php?id=2852
END:VEVENT
END:VCALENDAR