BEGIN:VCALENDAR
VERSION:2.0
PRODID:-//Plone.org//NONSGML plone.app.event//EN
X-WR-TIMEZONE:Europe/Madrid
BEGIN:VEVENT
SUMMARY:Xerrada-col·loqui sobre el Projecte de la Llei d'Educació
DTSTART;TZID=Europe/Madrid;VALUE=DATE-TIME:20090422T200000
DTEND;TZID=Europe/Madrid;VALUE=DATE-TIME:20090422T210000
DTSTAMP;VALUE=DATE-TIME:20260424T221912Z
UID:f985650ed045fc0f22e08ca60efc4415
CREATED;VALUE=DATE-TIME:20090422T000000Z
CATEGORIES:Conferència,Agenda cultural
LOCATION:Centre Cívic El Gorg
ORGANIZER:PSC Sant Vicenç de Montalt
COMMENT:Preu: Gratuït
URL:https://www.svmontalt.cat/document.php?id=2889
END:VEVENT
END:VCALENDAR