BEGIN:VCALENDAR
VERSION:2.0
PRODID:-//Plone.org//NONSGML plone.app.event//EN
X-WR-TIMEZONE:Europe/Madrid
BEGIN:VEVENT
SUMMARY:Curs de sevillanes per a menors de 12 anys
DTSTART;TZID=Europe/Madrid;VALUE=DATE-TIME:20090508T173000
DTEND;TZID=Europe/Madrid;VALUE=DATE-TIME:20090508T183000
DTSTAMP;VALUE=DATE-TIME:20260422T045017Z
UID:ad65b643b0f9e2c1b6a8dd5bc25d46ec
CREATED;VALUE=DATE-TIME:20090508T000000Z
CATEGORIES:Cursos,Agenda cultural
LOCATION:Cau Jove
ORGANIZER:Regidoria de Joventut
COMMENT:Preu: 15 euros/mes
URL:https://www.svmontalt.cat/document.php?id=2945
END:VEVENT
END:VCALENDAR