BEGIN:VCALENDAR
VERSION:2.0
PRODID:-//Plone.org//NONSGML plone.app.event//EN
X-WR-TIMEZONE:Europe/Madrid
BEGIN:VEVENT
SUMMARY:Curs de sevillanes per a menors de 12 anys
DTSTART;TZID=Europe/Madrid;VALUE=DATE-TIME:20090522T173000
DTEND;TZID=Europe/Madrid;VALUE=DATE-TIME:20090522T183000
DTSTAMP;VALUE=DATE-TIME:20260422T031028Z
UID:e69d6ccfb3fa285826955484ef1808a5
CREATED;VALUE=DATE-TIME:20090522T000000Z
CATEGORIES:Cursos,Agenda cultural
LOCATION:Cau Jove
ORGANIZER:Regidoria de Joventut
COMMENT:Preu: 15 euros/mes
URL:https://www.svmontalt.cat/document.php?id=2947
END:VEVENT
END:VCALENDAR