BEGIN:VCALENDAR
VERSION:2.0
PRODID:-//Plone.org//NONSGML plone.app.event//EN
X-WR-TIMEZONE:Europe/Madrid
BEGIN:VEVENT
SUMMARY:Curs de sevillanes per a menors de 12 anys
DTSTART;TZID=Europe/Madrid;VALUE=DATE-TIME:20090529T173000
DTEND;TZID=Europe/Madrid;VALUE=DATE-TIME:20090529T183000
DTSTAMP;VALUE=DATE-TIME:20260421T191624Z
UID:7ff163f6e728c0b56c5ed3390668b63b
CREATED;VALUE=DATE-TIME:20090529T000000Z
CATEGORIES:Cursos,Agenda cultural
LOCATION:Cau Jove
ORGANIZER:Regidoria de Joventut
COMMENT:Preu: 15 euros/mes
URL:https://www.svmontalt.cat/document.php?id=2948
END:VEVENT
END:VCALENDAR