BEGIN:VCALENDAR
VERSION:2.0
PRODID:-//Plone.org//NONSGML plone.app.event//EN
X-WR-TIMEZONE:Europe/Madrid
BEGIN:VEVENT
SUMMARY:Sortida de les Puntaires a L'Escala
DTSTART;TZID=Europe/Madrid;VALUE=DATE-TIME:20090517T000000
DTEND;TZID=Europe/Madrid;VALUE=DATE-TIME:20090517T010000
DTSTAMP;VALUE=DATE-TIME:20260422T043340Z
UID:5c64767cabdc2a06caf901dac5675651
CREATED;VALUE=DATE-TIME:20090517T000000Z
CATEGORIES:Mostra,Agenda cultural
ORGANIZER:Associació de Puntaires de Sant Vicenç de Montalt
URL:https://www.svmontalt.cat/document.php?id=2954
END:VEVENT
END:VCALENDAR