BEGIN:VCALENDAR
VERSION:2.0
PRODID:-//Plone.org//NONSGML plone.app.event//EN
X-WR-TIMEZONE:Europe/Madrid
BEGIN:VEVENT
SUMMARY:Balls de Saló al Cívic
DTSTART;TZID=Europe/Madrid;VALUE=DATE-TIME:20090531T180000
DTEND;TZID=Europe/Madrid;VALUE=DATE-TIME:20090531T190000
DTSTAMP;VALUE=DATE-TIME:20260422T013447Z
UID:7ad415d4886d19b5fca50c9ab5ab61d7
CREATED;VALUE=DATE-TIME:20090531T000000Z
CATEGORIES:Dansa,Agenda cultural
LOCATION:Centre Cívic El Gorg
ORGANIZER:Regidoria de Cultura
COMMENT:Preu: Gratuït
URL:https://www.svmontalt.cat/document.php?id=2956
END:VEVENT
END:VCALENDAR