BEGIN:VCALENDAR
VERSION:2.0
PRODID:-//Plone.org//NONSGML plone.app.event//EN
X-WR-TIMEZONE:Europe/Madrid
BEGIN:VEVENT
SUMMARY:Xerrada: "Bons hàbits alimentaris en infants"
DTSTART;TZID=Europe/Madrid;VALUE=DATE-TIME:20090528T203000
DTEND;TZID=Europe/Madrid;VALUE=DATE-TIME:20090528T213000
DTSTAMP;VALUE=DATE-TIME:20260424T210352Z
UID:fa73c14df3b6d644ffc8307931028198
CREATED;VALUE=DATE-TIME:20090528T000000Z
CATEGORIES:Conferència,Agenda cultural
LOCATION:Centre Cívic El Gorg
ORGANIZER:AMPA escola Bressol Els Garrofers
COMMENT:Preu: Gratuït
DESCRIPTION:A càrrec de la Dra. Encarna Carballo
URL:https://www.svmontalt.cat/document.php?id=2958
END:VEVENT
END:VCALENDAR