BEGIN:VCALENDAR
VERSION:2.0
PRODID:-//Plone.org//NONSGML plone.app.event//EN
X-WR-TIMEZONE:Europe/Madrid
BEGIN:VEVENT
SUMMARY:Sortida de la Colla de Geganters a Tàrrega, Ciutat Gegantera
DTSTART;TZID=Europe/Madrid;VALUE=DATE-TIME:20090531T060000
DTEND;TZID=Europe/Madrid;VALUE=DATE-TIME:20090531T070000
DTSTAMP;VALUE=DATE-TIME:20260422T043956Z
UID:0a72cc775c125772e80fcfd650fb1aea
CREATED;VALUE=DATE-TIME:20090531T000000Z
CATEGORIES:Mostra,Agenda cultural
ORGANIZER:Colla de Geganters de Sant Vicenç de Montalt
URL:https://www.svmontalt.cat/document.php?id=2959
END:VEVENT
END:VCALENDAR