BEGIN:VCALENDAR
VERSION:2.0
PRODID:-//Plone.org//NONSGML plone.app.event//EN
X-WR-TIMEZONE:Europe/Madrid
BEGIN:VEVENT
SUMMARY:Xerrada-col·loqui: La cuina de Sant Vicenç
DTSTART;TZID=Europe/Madrid;VALUE=DATE-TIME:20090513T180000
DTEND;TZID=Europe/Madrid;VALUE=DATE-TIME:20090513T190000
DTSTAMP;VALUE=DATE-TIME:20260424T174219Z
UID:5e63e4b85c086aa477177b8e3984720b
CREATED;VALUE=DATE-TIME:20090513T000000Z
CATEGORIES:Conferència,Agenda cultural
LOCATION:Casal de la Gent Gran Els Xurravins
ORGANIZER:Associació de Gent Gran Els Xurravins
COMMENT:Preu: Gratuït
URL:https://www.svmontalt.cat/document.php?id=2964
END:VEVENT
END:VCALENDAR