BEGIN:VCALENDAR
VERSION:2.0
PRODID:-//Plone.org//NONSGML plone.app.event//EN
X-WR-TIMEZONE:Europe/Madrid
BEGIN:VEVENT
SUMMARY:Trobada Country
DTSTART;TZID=Europe/Madrid;VALUE=DATE-TIME:20090524T110000
DTEND;TZID=Europe/Madrid;VALUE=DATE-TIME:20090524T120000
DTSTAMP;VALUE=DATE-TIME:20260422T111110Z
UID:80fcf0070e55095e01e7581f5d462d9c
CREATED;VALUE=DATE-TIME:20090524T000000Z
CATEGORIES:Festa,Agenda cultural
LOCATION:Pista poliesportiva annexa al Pavelló Muncipal Toni Sors
ORGANIZER:Donactiva
COMMENT:Preu: Gratuït
URL:https://www.svmontalt.cat/document.php?id=2966
END:VEVENT
END:VCALENDAR