BEGIN:VCALENDAR
VERSION:2.0
PRODID:-//Plone.org//NONSGML plone.app.event//EN
X-WR-TIMEZONE:Europe/Madrid
BEGIN:VEVENT
SUMMARY:Balls de Saló al Cívic
DTSTART;TZID=Europe/Madrid;VALUE=DATE-TIME:20090628T180000
DTEND;TZID=Europe/Madrid;VALUE=DATE-TIME:20090628T190000
DTSTAMP;VALUE=DATE-TIME:20260421T222540Z
UID:143b82a7401c4cdc85f610511ab0923c
CREATED;VALUE=DATE-TIME:20090628T000000Z
CATEGORIES:Dansa,Agenda cultural
LOCATION:Centre Cívic El Gorg
ORGANIZER:Regidoria de Cultura
COMMENT:Preu: Gratuït
URL:https://www.svmontalt.cat/document.php?id=3016
END:VEVENT
END:VCALENDAR