BEGIN:VCALENDAR
VERSION:2.0
PRODID:-//Plone.org//NONSGML plone.app.event//EN
X-WR-TIMEZONE:Europe/Madrid
BEGIN:VEVENT
SUMMARY:Curs de sevillanes per a majors de 12 anys
DTSTART;TZID=Europe/Madrid;VALUE=DATE-TIME:20090603T203000
DTEND;TZID=Europe/Madrid;VALUE=DATE-TIME:20090603T213000
DTSTAMP;VALUE=DATE-TIME:20260422T093402Z
UID:e483a9ebc67bee8fdad9fb822ecd1741
CREATED;VALUE=DATE-TIME:20090603T000000Z
CATEGORIES:Cursos,Agenda cultural
LOCATION:Cau Jove
ORGANIZER:Regidoria de Joventut
COMMENT:Preu: 15 euros/mes
URL:https://www.svmontalt.cat/document.php?id=3023
END:VEVENT
END:VCALENDAR