BEGIN:VCALENDAR
VERSION:2.0
PRODID:-//Plone.org//NONSGML plone.app.event//EN
X-WR-TIMEZONE:Europe/Madrid
BEGIN:VEVENT
SUMMARY:Curs de sevillanes per a majors de 12 anys
DTSTART;TZID=Europe/Madrid;VALUE=DATE-TIME:20090610T203000
DTEND;TZID=Europe/Madrid;VALUE=DATE-TIME:20090610T213000
DTSTAMP;VALUE=DATE-TIME:20260422T054041Z
UID:de7d6e07d8169c3f419cc8b75b6a597a
CREATED;VALUE=DATE-TIME:20090610T000000Z
CATEGORIES:Cursos,Agenda cultural
LOCATION:Cau Jove
ORGANIZER:Regidoria de Joventut
COMMENT:Preu: 15 euros/mes
URL:https://www.svmontalt.cat/document.php?id=3024
END:VEVENT
END:VCALENDAR