BEGIN:VCALENDAR
VERSION:2.0
PRODID:-//Plone.org//NONSGML plone.app.event//EN
X-WR-TIMEZONE:Europe/Madrid
BEGIN:VEVENT
SUMMARY:Curs de sevillanes per a menors de 12 anys
DTSTART;TZID=Europe/Madrid;VALUE=DATE-TIME:20090605T173000
DTEND;TZID=Europe/Madrid;VALUE=DATE-TIME:20090605T183000
DTSTAMP;VALUE=DATE-TIME:20260421T223856Z
UID:9fb708e083449d9396e2b7fe4227afaa
CREATED;VALUE=DATE-TIME:20090605T000000Z
CATEGORIES:Cursos,Agenda cultural
LOCATION:Cau Jove
ORGANIZER:Regidoria de Joventut
COMMENT:Preu: 15 euros/mes
URL:https://www.svmontalt.cat/document.php?id=3032
END:VEVENT
END:VCALENDAR