BEGIN:VCALENDAR
VERSION:2.0
PRODID:-//Plone.org//NONSGML plone.app.event//EN
X-WR-TIMEZONE:Europe/Madrid
BEGIN:VEVENT
SUMMARY:Curs de sevillanes per a menors de 12 anys
DTSTART;TZID=Europe/Madrid;VALUE=DATE-TIME:20090612T173000
DTEND;TZID=Europe/Madrid;VALUE=DATE-TIME:20090612T183000
DTSTAMP;VALUE=DATE-TIME:20260422T000132Z
UID:bb29e855e84bf8dbdbb61e1e78f17383
CREATED;VALUE=DATE-TIME:20090612T000000Z
CATEGORIES:Cursos,Agenda cultural
LOCATION:Cau Jove
ORGANIZER:Regidoria de Joventut
COMMENT:Preu: 15 euros/mes
URL:https://www.svmontalt.cat/document.php?id=3033
END:VEVENT
END:VCALENDAR