BEGIN:VCALENDAR
VERSION:2.0
PRODID:-//Plone.org//NONSGML plone.app.event//EN
X-WR-TIMEZONE:Europe/Madrid
BEGIN:VEVENT
SUMMARY:Xerrada informativa sobre l'apagada analògica al Maresme
DTSTART;TZID=Europe/Madrid;VALUE=DATE-TIME:20090605T200000
DTEND;TZID=Europe/Madrid;VALUE=DATE-TIME:20090605T210000
DTSTAMP;VALUE=DATE-TIME:20260424T183316Z
UID:2fc6e80d3c69878aacb709d1a66df37b
CREATED;VALUE=DATE-TIME:20090605T000000Z
CATEGORIES:Conferència,Agenda cultural
LOCATION:Centre Cívic El Gorg
ORGANIZER:Regidoria de Noves Tecnologies
COMMENT:Preu: Gratuït
DESCRIPTION:A càrrec de tècnics del Consorci Digital Mataró-Maresme
URL:https://www.svmontalt.cat/document.php?id=3036
END:VEVENT
END:VCALENDAR