BEGIN:VCALENDAR
VERSION:2.0
PRODID:-//Plone.org//NONSGML plone.app.event//EN
X-WR-TIMEZONE:Europe/Madrid
BEGIN:VEVENT
SUMMARY:Xerrada-col·loqui: La cuina de Sant Vicenç
DTSTART;TZID=Europe/Madrid;VALUE=DATE-TIME:20090701T180000
DTEND;TZID=Europe/Madrid;VALUE=DATE-TIME:20090701T190000
DTSTAMP;VALUE=DATE-TIME:20260424T183751Z
UID:4e4a2710313fec3cab8c29b838111aa7
CREATED;VALUE=DATE-TIME:20090701T000000Z
CATEGORIES:Conferència,Agenda cultural
LOCATION:Casal de la Gent Gran Els Xurravins
ORGANIZER:Associació de Gent Gran Els Xurravins
COMMENT:Preu: Gratuït
URL:https://www.svmontalt.cat/document.php?id=3038
END:VEVENT
END:VCALENDAR