BEGIN:VCALENDAR
VERSION:2.0
PRODID:-//Plone.org//NONSGML plone.app.event//EN
X-WR-TIMEZONE:Europe/Madrid
BEGIN:VEVENT
SUMMARY:Exhibició de sevillanes
DTSTART;TZID=Europe/Madrid;VALUE=DATE-TIME:20090613T180000
DTEND;TZID=Europe/Madrid;VALUE=DATE-TIME:20090613T190000
DTSTAMP;VALUE=DATE-TIME:20260422T014511Z
UID:8f90da15fdb3fc987c404d389a2b23e7
CREATED;VALUE=DATE-TIME:20090613T000000Z
CATEGORIES:Mostra,Agenda cultural
LOCATION:Centre Cívic El Gorg
ORGANIZER:Regidoria de Joventut
COMMENT:Preu: Gratuït
URL:https://www.svmontalt.cat/document.php?id=3090
END:VEVENT
END:VCALENDAR