BEGIN:VCALENDAR
VERSION:2.0
PRODID:-//Plone.org//NONSGML plone.app.event//EN
X-WR-TIMEZONE:Europe/Madrid
BEGIN:VEVENT
SUMMARY:Reunió informativa sobre el Casal d'Estiu '09
DTSTART;TZID=Europe/Madrid;VALUE=DATE-TIME:20090617T200000
DTEND;TZID=Europe/Madrid;VALUE=DATE-TIME:20090617T210000
DTSTAMP;VALUE=DATE-TIME:20260424T224302Z
UID:74d633d59fda863e23d7b8f606057fa9
CREATED;VALUE=DATE-TIME:20090617T000000Z
LOCATION:Centre Cívic El Gorg
ORGANIZER:Regidoria de Joventut
COMMENT:Preu: Gratuït
URL:https://www.svmontalt.cat/document.php?id=3091
END:VEVENT
END:VCALENDAR