BEGIN:VCALENDAR
VERSION:2.0
PRODID:-//Plone.org//NONSGML plone.app.event//EN
X-WR-TIMEZONE:Europe/Madrid
BEGIN:VEVENT
SUMMARY:Reunió informativa: Bressol d'Estiu Els Garrofers '09
DTSTART;TZID=Europe/Madrid;VALUE=DATE-TIME:20090618T210000
DTEND;TZID=Europe/Madrid;VALUE=DATE-TIME:20090618T220000
DTSTAMP;VALUE=DATE-TIME:20260424T185208Z
UID:58acc6f52ac965bf455aedd64d6adb33
CREATED;VALUE=DATE-TIME:20090618T000000Z
LOCATION:Centre Cívic El Gorg
ORGANIZER:Ampa Escola Bressol Municipal Els Garrofers i Naïfar, SCCL
URL:https://www.svmontalt.cat/document.php?id=3110
END:VEVENT
END:VCALENDAR