BEGIN:VCALENDAR
VERSION:2.0
PRODID:-//Plone.org//NONSGML plone.app.event//EN
X-WR-TIMEZONE:Europe/Madrid
BEGIN:VEVENT
SUMMARY:Aquest diumenge, els Balls de saló s'acomiaden fins al setembre
DTSTART;TZID=Europe/Madrid;VALUE=DATE-TIME:20090726T180000
DTEND;TZID=Europe/Madrid;VALUE=DATE-TIME:20090726T190000
DTSTAMP;VALUE=DATE-TIME:20260422T063230Z
UID:ed9323c3a4f2b0e9e25c104139e5b6b5
CREATED;VALUE=DATE-TIME:20090726T000000Z
CATEGORIES:Dansa,Agenda cultural
LOCATION:Centre Cívic El Gorg
ORGANIZER:Regidoria de Cultura
COMMENT:Preu: Gratuït
URL:https://www.svmontalt.cat/document.php?id=3127
END:VEVENT
END:VCALENDAR