BEGIN:VCALENDAR
VERSION:2.0
PRODID:-//Plone.org//NONSGML plone.app.event//EN
X-WR-TIMEZONE:Europe/Madrid
BEGIN:VEVENT
SUMMARY:Tertúlia: Biblioviatges
DTSTART;TZID=Europe/Madrid;VALUE=DATE-TIME:20090703T190000
DTEND;TZID=Europe/Madrid;VALUE=DATE-TIME:20090703T200000
DTSTAMP;VALUE=DATE-TIME:20260424T195317Z
UID:541f599c1ea7ae012420c8059b133301
CREATED;VALUE=DATE-TIME:20090703T000000Z
CATEGORIES:Conferència,Agenda cultural
LOCATION:Biblioteca Municipal La Muntala
ORGANIZER:Biblioteca Municipal La Muntala
COMMENT:Preu: Gratuït
URL:https://www.svmontalt.cat/document.php?id=3137
END:VEVENT
END:VCALENDAR