BEGIN:VCALENDAR
VERSION:2.0
PRODID:-//Plone.org//NONSGML plone.app.event//EN
X-WR-TIMEZONE:Europe/Madrid
BEGIN:VEVENT
SUMMARY:Tertúlia: Biblioviatges
DTSTART;TZID=Europe/Madrid;VALUE=DATE-TIME:20090710T190000
DTEND;TZID=Europe/Madrid;VALUE=DATE-TIME:20090710T200000
DTSTAMP;VALUE=DATE-TIME:20260424T183333Z
UID:c81c26ee59b13b95712ce61dfd85aa41
CREATED;VALUE=DATE-TIME:20090710T000000Z
CATEGORIES:Conferència,Agenda cultural
LOCATION:Biblioteca Municipal La Muntala
ORGANIZER:Biblioteca Municipal La Muntala
COMMENT:Preu: Gratuït
URL:https://www.svmontalt.cat/document.php?id=3138
END:VEVENT
END:VCALENDAR