BEGIN:VCALENDAR
VERSION:2.0
PRODID:-//Plone.org//NONSGML plone.app.event//EN
X-WR-TIMEZONE:Europe/Madrid
BEGIN:VEVENT
SUMMARY:Tertúlia: Biblioviatges
DTSTART;TZID=Europe/Madrid;VALUE=DATE-TIME:20090724T190000
DTEND;TZID=Europe/Madrid;VALUE=DATE-TIME:20090724T200000
DTSTAMP;VALUE=DATE-TIME:20260424T172319Z
UID:f92845e35f0cdb771ef270195ead688a
CREATED;VALUE=DATE-TIME:20090724T000000Z
CATEGORIES:Conferència,Agenda cultural
LOCATION:Biblioteca Municipal La Muntala
ORGANIZER:Biblioteca Municipal La Muntala
COMMENT:Preu: Gratuït
URL:https://www.svmontalt.cat/document.php?id=3140
END:VEVENT
END:VCALENDAR