BEGIN:VCALENDAR
VERSION:2.0
PRODID:-//Plone.org//NONSGML plone.app.event//EN
X-WR-TIMEZONE:Europe/Madrid
BEGIN:VEVENT
SUMMARY:Tertúlia: Biblioviatges
DTSTART;TZID=Europe/Madrid;VALUE=DATE-TIME:20090731T190000
DTEND;TZID=Europe/Madrid;VALUE=DATE-TIME:20090731T200000
DTSTAMP;VALUE=DATE-TIME:20260424T224617Z
UID:27b7c3aaac1411614b24793240d44f50
CREATED;VALUE=DATE-TIME:20090731T000000Z
CATEGORIES:Conferència,Agenda cultural
LOCATION:Biblioteca Municipal La Muntala
ORGANIZER:Biblioteca Municipal La Muntala
COMMENT:Preu: Gratuït
URL:https://www.svmontalt.cat/document.php?id=3141
END:VEVENT
END:VCALENDAR